BEGIN:VCALENDAR
VERSION:2.0
PRODID:-//hacksw/handcal//NONSGML v1.0//EN
BEGIN:VEVENT
SUMMARY:SENIORS A (J19)
UID:c717a0a3-7679-4f9f-8f44-6c5625910cdf
DTSTART:20260419T130000Z
DTEND:20260419T220000Z
LOCATION:Localisation AVENUE DE LA BUGALLIERE 44700 ORVAULT
CATEGORIES:Sportif
STATUS:
URL;VALUE=URI:https://www.jabesne.com/evenements/2026/04/19/seniors-a-j19-2261494
END:VEVENT
END:VCALENDAR
